BEGIN:VCALENDAR
PRODID:-//eluceo/ical//2.0/EN
VERSION:2.0
CALSCALE:GREGORIAN
BEGIN:VEVENT
UID:ed022061494a95d18412bb48fd1c7e85
DTSTAMP:20260420T035726Z
SUMMARY:Family Friendly Friday Night Service
DESCRIPTION:Jewish Federation & Foundation of Rockland County\nCommunity Ca
 lendar\nhttps://jewishrockland.org/calendar/family-friendly-friday-night-s
 ervice\n\nFamily Friendly Friday Night Service
DTSTART;TZID=America/New_York:20130201T180000
DTEND;TZID=America/New_York:20130201T184500
END:VEVENT
END:VCALENDAR
