BEGIN:VCALENDAR
PRODID:-//eluceo/ical//2.0/EN
VERSION:2.0
CALSCALE:GREGORIAN
BEGIN:VEVENT
UID:1478724575f36254c5e96c38fe4d6a40
DTSTAMP:20260421T115140Z
SUMMARY:Family Friendly Shabbat Service at CSI-Nov 21
DESCRIPTION:Jewish Federation & Foundation of Rockland County\nCommunity Ca
 lendar\nhttps://jewishrockland.org/calendar/family-friendly-shabbat-servic
 e-at-csi-nov-21-1413836710\n\nFriday\, November 21—6 p.m. Family Friendl
 y Friday Night Service\nPlease join Rabbi Ariel Russo and Hazzan Michael K
 asper for services where we will sing\, dance\, pray and tell stories. Thi
 s is a great opportunity to learn about Shabbat and have fun. We welcome e
 veryone to come and take part of the joy of Shabbat with engaging and inte
 ractive services. The main service will take place simultaneously in the s
 anctuary at\n6 p.m.\nCongregation Sons of Israel\, 300 N. Broadway\, Upper
  Nyack\, NY 109...
DTSTART;TZID=America/New_York:20141121T180000
DTEND;TZID=America/New_York:20141121T190000
END:VEVENT
END:VCALENDAR
