BEGIN:VCALENDAR
PRODID:-//eluceo/ical//2.0/EN
VERSION:2.0
CALSCALE:GREGORIAN
BEGIN:VEVENT
UID:a2c8c5c71c0cbd91994a8424d9fdce36
DTSTAMP:20260425T031055Z
SUMMARY:Family Kabbalat Shabbat with Pizmon A Capella PLUS Dinner
DESCRIPTION:Jewish Federation & Foundation of Rockland County\nCommunity Ca
 lendar\nhttps://jewishrockland.org/calendar/family-kabbalat-shabbat-with-p
 izmon-a-capella-plus-dinner\n\nFamily Kabbalat Shabbat with Pizmon A Capel
 la PLUS
DTSTART;TZID=America/New_York:20130208T183000
DTEND;TZID=America/New_York:20130208T190000
END:VEVENT
END:VCALENDAR
