BEGIN:VCALENDAR
PRODID:-//eluceo/ical//2.0/EN
VERSION:2.0
CALSCALE:GREGORIAN
BEGIN:VEVENT
UID:43d12d7ba9d6c6762df3f7d1d0b2b4f4
DTSTAMP:20260423T040253Z
SUMMARY:FBI Active Shooter Presentation
DESCRIPTION:Jewish Federation & Foundation of Rockland County\nCommunity Ca
 lendar\nhttps://jewishrockland.org/calendar/fbi-active-shooter-presentatio
 n-1582041036\n\nThis event is open to Religious Leaders\, Community Leader
 s\, Educators &amp\; Law Enforcement.
DTSTART;TZID=America/New_York:20200224T100000
DTEND;TZID=America/New_York:20200224T130000
END:VEVENT
END:VCALENDAR
