BEGIN:VCALENDAR
PRODID:-//eluceo/ical//2.0/EN
VERSION:2.0
CALSCALE:GREGORIAN
BEGIN:VEVENT
UID:fe1f2effe735017302040b8794f33d4a
DTSTAMP:20260426T040611Z
SUMMARY:Federation Board and Staff Seminar
DESCRIPTION:Jewish Federation & Foundation of Rockland County\nCommunity Ca
 lendar\nhttps://jewishrockland.org/calendar/federation-board-and-staff-sem
 inar-1490630555-226340\n\nDetails TBD
DTSTART;TZID=America/New_York:20170911T170000
DTEND;TZID=America/New_York:20170911T210000
END:VEVENT
END:VCALENDAR
