BEGIN:VCALENDAR
PRODID:-//eluceo/ical//2.0/EN
VERSION:2.0
CALSCALE:GREGORIAN
BEGIN:VEVENT
UID:87969c3907fdb448d39960c144ebd41c
DTSTAMP:20260425T034934Z
SUMMARY:Federation Campaign 2018 Launch
DESCRIPTION:Jewish Federation & Foundation of Rockland County\nCommunity Ca
 lendar\nhttps://jewishrockland.org/calendar/federation-campaign-2018-launc
 h-226342\n\nJoin Federation at Orangetown Jewish Center for a launch party
  that will be out of this world! The keynote speaker is Yonatan Winetraub\
 , Co-Founder of SpaceIL\, the organization that will soon land the first I
 sraeli spacecraft on the Moon.\n\nPast Federation President Andrea Weinber
 ger will be honored for her stellar contributions and exceptional dedicati
 on.\n\nA buffet dinner will be served. Same-day tickets available by call
 ing Rebecca Bannerman at 845-362-4200 x121.\n\n 
DTSTART;TZID=America/New_York:20171002T190000
DTEND;TZID=America/New_York:20171002T210000
END:VEVENT
END:VCALENDAR
