BEGIN:VCALENDAR
PRODID:-//eluceo/ical//2.0/EN
VERSION:2.0
CALSCALE:GREGORIAN
BEGIN:VEVENT
UID:7ebb6ddf9f6677d9da27b7c2d12823b9
DTSTAMP:20260426T020908Z
SUMMARY:Federation Campaign 2019 Launch Dessert Reception
DESCRIPTION:Jewish Federation & Foundation of Rockland County\nCommunity Ca
 lendar\nhttps://jewishrockland.org/calendar/federation-campaign-2019-launc
 h-dessert-reception\n\nSave the date for Rockland Federation's Annual Camp
 aign launch reception. \n\n \n\nMore information and to register
DTSTART;TZID=America/New_York:20181009T193000
DTEND;TZID=America/New_York:20181009T213000
END:VEVENT
END:VCALENDAR
