BEGIN:VCALENDAR
PRODID:-//eluceo/ical//2.0/EN
VERSION:2.0
CALSCALE:GREGORIAN
BEGIN:VEVENT
UID:3c11f10c84d32e2d8b2f0bc500274ef3
DTSTAMP:20260426T012150Z
SUMMARY:Federation Executive Board Meeting November
DESCRIPTION:Jewish Federation & Foundation of Rockland County\nCommunity Ca
 lendar\nhttps://jewishrockland.org/calendar/federation-executive-board-mee
 ting-november\n\nMeeting of Federation's Executive Board
DTSTART;TZID=America/New_York:20181112T190000
DTEND;TZID=America/New_York:20181112T210000
END:VEVENT
END:VCALENDAR
