BEGIN:VCALENDAR
PRODID:-//eluceo/ical//2.0/EN
VERSION:2.0
CALSCALE:GREGORIAN
BEGIN:VEVENT
UID:052a4d144ee35b85c14e79d417d5a2e4
DTSTAMP:20260420T145514Z
SUMMARY:Federation September 2018 Board Meeting
DESCRIPTION:Jewish Federation & Foundation of Rockland County\nCommunity Ca
 lendar\nhttps://jewishrockland.org/calendar/federation-september-2018-boar
 d-meeting\n\nRegular meeting of Federation Board of Directors
DTSTART;TZID=America/New_York:20180906T193000
DTEND;TZID=America/New_York:20180906T213000
END:VEVENT
END:VCALENDAR
