BEGIN:VCALENDAR
PRODID:-//eluceo/ical//2.0/EN
VERSION:2.0
CALSCALE:GREGORIAN
BEGIN:VEVENT
UID:136fe3c87946781875e3abd6441dfd16
DTSTAMP:20260421T090741Z
SUMMARY:Jewish Federation & Foundation of Rockland County's Super Sunday
DESCRIPTION:Jewish Federation & Foundation of Rockland County\nCommunity Ca
 lendar\nhttps://jewishrockland.org/calendar/federation-super-sunday-2017\n
 \nSave the date for Super Sunday. Details to come!
DTSTART;TZID=America/New_York:20171210T090000
DTEND;TZID=America/New_York:20171210T140000
END:VEVENT
END:VCALENDAR
