BEGIN:VCALENDAR
PRODID:-//eluceo/ical//2.0/EN
VERSION:2.0
CALSCALE:GREGORIAN
BEGIN:VEVENT
UID:fb0923316f70488c68e8f7fd64a004d0
DTSTAMP:20260425T150322Z
SUMMARY:Federation's Year-End Celebration\, Graduation and Annual Meeting
DESCRIPTION:Jewish Federation & Foundation of Rockland County\nCommunity Ca
 lendar\nhttps://jewishrockland.org/calendar/federation-year-end-celebratio
 n-graduation-meeting\n\nAll are invited to Federation's annual meeting\, c
 ommunity celebration and graduation!\n\nLive music  |  buffet dinner  |
   program\n\nGuest speaker: Jerry Silverman\, President & CEO\, Jewish Fe
 derations of North America\n\nHonoring our outgoing President Andrea Wein
 berger and outgoing Comptroller Bruce Sicherman as well as 2016 LDI and Me
 lton school graduates.\n\nLeadership Development Institute (LDI) Graduates
 : Lisa Better\, Zizette Deutsch\, Beth Fishman\, Sharon Frank\, Gabrielle 
 Haber\, Hil...
DTSTART;TZID=America/New_York:20160609T190000
DTEND;TZID=America/New_York:20160609T210000
END:VEVENT
END:VCALENDAR
