BEGIN:VCALENDAR
PRODID:-//eluceo/ical//2.0/EN
VERSION:2.0
CALSCALE:GREGORIAN
BEGIN:VEVENT
UID:12b3824068e9b371fb28f82f6ddd732b
DTSTAMP:20260421T115721Z
SUMMARY:Female Afghan Marathoner To Speak At Beth Am Temple Refugee Shabbat
DESCRIPTION:Jewish Federation & Foundation of Rockland County\nCommunity Ca
 lendar\nhttps://jewishrockland.org/calendar/female-afghan-marathoner-to-sp
 eak-at-beth-am-temple-refugee-shabbat-1758825056\n\nAfghan Refugee Nelofar
  will speak about her  life in Afghanistan\, being a female marathoner and
  her immigration to the U.S. at Beth Am Temple's Refugee Shabbat on Friday
 \, October 10.
DTSTART;TZID=America/New_York:20251010T194500
DTEND;TZID=America/New_York:20251010T213000
END:VEVENT
END:VCALENDAR
