BEGIN:VCALENDAR
PRODID:-//eluceo/ical//2.0/EN
VERSION:2.0
CALSCALE:GREGORIAN
BEGIN:VEVENT
UID:ac86efe4441f720d17a0e7ea1f2707c6
DTSTAMP:20260420T071822Z
SUMMARY:Fiddler: A Miracle of Miracles
DESCRIPTION:Jewish Federation & Foundation of Rockland County\nCommunity Ca
 lendar\nhttps://jewishrockland.org/calendar/fiddler-a-miracle-of-miracles-
 1590158339\n\nThe origin story behind one of Broadway’s most beloved mus
 icals\, Fiddler on The Roof\, and its creative roots in early 1960s New Yo
 rk\, when “tradition” was on the wane as gender roles\, sexuality\, ra
 ce relations\, and religion were evolving. 
DTSTART;TZID=America/New_York:20200701T193000
DTEND;TZID=America/New_York:20200703T193000
END:VEVENT
END:VCALENDAR
