BEGIN:VCALENDAR
PRODID:-//eluceo/ical//2.0/EN
VERSION:2.0
CALSCALE:GREGORIAN
BEGIN:VEVENT
UID:d18afab712971ad297835a5e6fd0bec6
DTSTAMP:20260425T233425Z
SUMMARY:Film screening "Slavery by Another Name"
DESCRIPTION:Jewish Federation & Foundation of Rockland County\nCommunity Ca
 lendar\nhttps://jewishrockland.org/calendar/film-screening-slavery-by-anot
 her-name-75641\n\nSlavery by Another Name\, based upon the Pulitzer Prize-
 winning book by Douglas A. Blackmon\, gives voice to the largely forgotten
  victims and perpetrators of forced labor and features moving interviews w
 ith their descendants living today. A distinguished group of historians pr
 ovides context and perspective on one of the most shameful and little know
 n chapters in American history.\n
DTSTART;TZID=America/New_York:20140723T190000
DTEND;TZID=America/New_York:20140723T210000
END:VEVENT
END:VCALENDAR
