BEGIN:VCALENDAR
PRODID:-//eluceo/ical//2.0/EN
VERSION:2.0
CALSCALE:GREGORIAN
BEGIN:VEVENT
UID:052a3bcfdedb24485516c08c909ddd25
DTSTAMP:20260420T174238Z
SUMMARY:Flap Jacks and Fire Trucks
DESCRIPTION:Jewish Federation & Foundation of Rockland County\nCommunity Ca
 lendar\nhttps://jewishrockland.org/calendar/flap-jacks-and-fire-trucks\n\n
 Flap Jacks and Fire Trucks
DTSTART;TZID=America/New_York:20130113T093000
DTEND;TZID=America/New_York:20130113T120000
END:VEVENT
END:VCALENDAR
