BEGIN:VCALENDAR
PRODID:-//eluceo/ical//2.0/EN
VERSION:2.0
CALSCALE:GREGORIAN
BEGIN:VEVENT
UID:7ca17a1b6e4f78b4f85a4278fa0b1651
DTSTAMP:20260423T222517Z
SUMMARY:Flu Shots at JCC Rockland
DESCRIPTION:Jewish Federation & Foundation of Rockland County\nCommunity Ca
 lendar\nhttps://jewishrockland.org/calendar/flu-shots-at-jcc-rockland-1438
 797322\n\nFlu Shots at JCC Rockland
DTSTART;TZID=America/New_York:20151013T133000
DTEND;TZID=America/New_York:20151013T153000
END:VEVENT
END:VCALENDAR
