BEGIN:VCALENDAR
PRODID:-//eluceo/ical//2.0/EN
VERSION:2.0
CALSCALE:GREGORIAN
BEGIN:VEVENT
UID:1c828f6d4208a938ae8abfcff047c976
DTSTAMP:20260423T212840Z
SUMMARY:Food Pantry at RJFS
DESCRIPTION:Jewish Federation & Foundation of Rockland County\nCommunity Ca
 lendar\nhttps://jewishrockland.org/calendar/food-pantry-at-rjfs-1666813150
 \n\nRhoda Bloom Kosher Food Pantry food distribution day. Volunteers are a
 sked to report at 8:30am to pack the boxes and load into clients' cars\, c
 lients pick up from 10:30 to Noon. For more info see www.rjfs.org/food.
DTSTART;TZID=America/New_York:20221218T083000
DTEND;TZID=America/New_York:20221218T120000
END:VEVENT
END:VCALENDAR
