BEGIN:VCALENDAR
PRODID:-//eluceo/ical//2.0/EN
VERSION:2.0
CALSCALE:GREGORIAN
BEGIN:VEVENT
UID:cdfc10d70e3c8becf30912da753daf36
DTSTAMP:20260422T192338Z
SUMMARY:Food Pantry Day at RJFS
DESCRIPTION:Jewish Federation & Foundation of Rockland County\nCommunity Ca
 lendar\nhttps://jewishrockland.org/calendar/food-pantry-day-at-rjfs-166681
 3071\n\nRhoda Bloom Kosher Food Pantry food distribution day. Volunteers a
 re asked to report at 8:30am to pack the boxes and load into clients' cars
 \, clients pick up from 10:30 to Noon. For more info see www.rjfs.org/food
 .
DTSTART;TZID=America/New_York:20221120T083000
DTEND;TZID=America/New_York:20221120T120000
END:VEVENT
END:VCALENDAR
