BEGIN:VCALENDAR
PRODID:-//eluceo/ical//2.0/EN
VERSION:2.0
CALSCALE:GREGORIAN
BEGIN:VEVENT
UID:4d4e15ee137d55f64797bec206efdb7d
DTSTAMP:20260420T190130Z
SUMMARY:Free preschool program at The Reform Temple of Rockland
DESCRIPTION:Jewish Federation & Foundation of Rockland County\nCommunity Ca
 lendar\nhttps://jewishrockland.org/calendar/free-preschool-program-at-the-
 reform-temple-of-rockland-1694009612\n\nJoin K'tanim (little ones)\, our f
 ree monthly preschool program full of wonderful interactive learning exper
 iences: music\, crafts\, and Judaism. Designed for ages 18 months to 4 yea
 rs. This program takes place once a month on Sunday mornings at 9:30 AM. A
 dult participation is required. This is not a drop off program. Sunday mor
 nings at 9:30 AM.\nRegister at https://rtrny.org/ktanim/\nFor more informa
 tion contact Bethanne Knapp at info@rtrny.org.
DTSTART;TZID=America/New_York:20240204T093000
DTEND;TZID=America/New_York:20240204T103000
END:VEVENT
END:VCALENDAR
