BEGIN:VCALENDAR
PRODID:-//eluceo/ical//2.0/EN
VERSION:2.0
CALSCALE:GREGORIAN
BEGIN:VEVENT
UID:b68f36310d17b30eec312ed4c7fc836a
DTSTAMP:20260422T121924Z
SUMMARY:Free Rosh Hashanah Evening Family Experience - no ticket required
DESCRIPTION:Jewish Federation & Foundation of Rockland County\nCommunity Ca
 lendar\nhttps://jewishrockland.org/calendar/free-rosh-hashanah-evening-fam
 ily-experience---no-ticket-required-1694008069\n\nRosh Hashanah Evening Fa
 mily Experience at The Reform Temple of Rockland is open to all. No ticket
  required. Children bring your parents and grandparents. Enjoy apples and 
 honey and light snacks in time to go home for dinner.
DTSTART;TZID=America/New_York:20230915T180000
DTEND;TZID=America/New_York:20230915T184500
END:VEVENT
END:VCALENDAR
