BEGIN:VCALENDAR
PRODID:-//eluceo/ical//2.0/EN
VERSION:2.0
CALSCALE:GREGORIAN
BEGIN:VEVENT
UID:d1c723f72991c88a84141c89637a9953
DTSTAMP:20260420T114128Z
SUMMARY:Free "Taste" of Melton Adult Education
DESCRIPTION:Jewish Federation & Foundation of Rockland County\nCommunity Ca
 lendar\nhttps://jewishrockland.org/calendar/free-taste-of-melton-adult-edu
 cation-149138\n\nSample the Florence Melton School of Adult Education at n
 o cost\, and find out how enriching adult Jewish learning can be! This spe
 cial class will be taught by Rabbi Paula Mack Drill who has been teaching 
 Jewish adult ed classes for many years.\n\nRSVP by calling Roberta Seitzma
 n\, Director of Adult Education at 845-362-4200 x130.
DTSTART;TZID=America/New_York:20150813T123000
DTEND;TZID=America/New_York:20150813T133000
END:VEVENT
END:VCALENDAR
