BEGIN:VCALENDAR
PRODID:-//eluceo/ical//2.0/EN
VERSION:2.0
CALSCALE:GREGORIAN
BEGIN:VEVENT
UID:e1141b59e8b766be82d94a986f9f59e7
DTSTAMP:20260424T081349Z
SUMMARY:Gala Garage Sale
DESCRIPTION:Jewish Federation & Foundation of Rockland County\nCommunity Ca
 lendar\nhttps://jewishrockland.org/calendar/gala-garage-sale-WCJC\n\nGala 
 Garage Sale at West Clarkstown Jewish Center\, located at 195 West Clarkst
 own Road\, New City. The hours are\n9 AM - 4 PM. Come one. Come all. Get b
 argains galore.
DTSTART;TZID=America/New_York:20170611T090000
DTEND;TZID=America/New_York:20170611T160000
END:VEVENT
END:VCALENDAR
