BEGIN:VCALENDAR
PRODID:-//eluceo/ical//2.0/EN
VERSION:2.0
CALSCALE:GREGORIAN
BEGIN:VEVENT
UID:36e5b66ac3fdadf6fe5690e372f68233
DTSTAMP:20260420T210021Z
SUMMARY:GBDS 8th Grade Israel Trip Dinner
DESCRIPTION:Jewish Federation & Foundation of Rockland County\nCommunity Ca
 lendar\nhttps://jewishrockland.org/calendar/gbds-8th-grade-israel-trip-din
 ner\n\nGBDS 8th Grade Israel Trip Dinner
DTSTART;TZID=America/New_York:20130306T181500
DTEND;TZID=America/New_York:20130306T184500
END:VEVENT
END:VCALENDAR
