BEGIN:VCALENDAR
PRODID:-//eluceo/ical//2.0/EN
VERSION:2.0
CALSCALE:GREGORIAN
BEGIN:VEVENT
UID:b247291f003e7bfc3e6f598faad69865
DTSTAMP:20260420T222309Z
SUMMARY:General Assembly of the Jewish Federations of North America
DESCRIPTION:Jewish Federation & Foundation of Rockland County\nCommunity Ca
 lendar\nhttps://jewishrockland.org/calendar/general-assembly-of-the-jewish
 -federations-of-north-america\n\nGeneral Assembly of the Jewish Federation
 s of North America  in Washington DC.
DTSTART;TZID=America/New_York:20191110T000000
DTEND;TZID=America/New_York:20191112T235959
END:VEVENT
END:VCALENDAR
