BEGIN:VCALENDAR
PRODID:-//eluceo/ical//2.0/EN
VERSION:2.0
CALSCALE:GREGORIAN
BEGIN:VEVENT
UID:2039f9529360d72774705d18bdfb4b59
DTSTAMP:20260423T161235Z
SUMMARY:Gerrard Berman Day School Stepping into Nursery 2 and 3
DESCRIPTION:Jewish Federation & Foundation of Rockland County\nCommunity Ca
 lendar\nhttps://jewishrockland.org/calendar/gerrard-berman-stepping-into-n
 ursery-2-and-3\n\nChildren 21 months - 3 years old are invited to join us 
 for 4 trial classes to explore the exciting programs that happen in Early 
 Childhood.
DTSTART;TZID=America/New_York:20170912T093000
DTEND;TZID=America/New_York:20170912T113000
END:VEVENT
END:VCALENDAR
