BEGIN:VCALENDAR
PRODID:-//eluceo/ical//2.0/EN
VERSION:2.0
CALSCALE:GREGORIAN
BEGIN:VEVENT
UID:e44ed3f7e03cf8cc69f986f59930edbc
DTSTAMP:20260421T235246Z
SUMMARY:Giving Tuesday
DESCRIPTION:Jewish Federation & Foundation of Rockland County\nCommunity Ca
 lendar\nhttps://jewishrockland.org/calendar/giving-tuesday\n\nSecure our C
 ommunity\n\nViolent antisemitic incidents in Rockland doubled last year\, 
 according to ADL statistics.\nYOUR DONATION will help fund our vital Rockl
 and Community Security Initiative.\nOUR GOAL is to raise the level of secu
 rity for every Jewish institution in Rockland.\n\nOur initiative provides:
 \n\n\nactive threat\, volunteer\, and stop the bleed training\nvulnerabili
 ty assessments\ncybersecurity consulting\nintegrated alert network\nNPSG g
 rant consulting\nlaw enforcement liais...
DTSTART;TZID=America/New_York:20221129T000000
DTEND;TZID=America/New_York:20221129T235500
END:VEVENT
END:VCALENDAR
