BEGIN:VCALENDAR
PRODID:-//eluceo/ical//2.0/EN
VERSION:2.0
CALSCALE:GREGORIAN
BEGIN:VEVENT
UID:33ebd063351bf79e32a41d4456e5fcb0
DTSTAMP:20260424T180056Z
SUMMARY:Global Connections with Robert Siegel: Growing up with social media
DESCRIPTION:Jewish Federation & Foundation of Rockland County\nCommunity Ca
 lendar\nhttps://jewishrockland.org/calendar/global-connections-with-robert
 -siegel-growing-up-with-social-media-1704826594\n\nRobert Siegel (NPR) int
 erviews: Sherry Turkle and Brian Merchant
DTSTART;TZID=America/New_York:20240124T160000
DTEND;TZID=America/New_York:20240124T180000
END:VEVENT
END:VCALENDAR
