BEGIN:VCALENDAR
PRODID:-//eluceo/ical//2.0/EN
VERSION:2.0
CALSCALE:GREGORIAN
BEGIN:VEVENT
UID:a0a922b5337caf824ab97f425249ff7a
DTSTAMP:20260423T171626Z
SUMMARY:God is Not a Religious Idea with Dr. Zohar Raviv
DESCRIPTION:Jewish Federation & Foundation of Rockland County\nCommunity Ca
 lendar\nhttps://jewishrockland.org/calendar/god-is-not-a-religious-idea\n\
 nGod is NOT a Religious Idea: A fresh look at the role God plays in the Am
 erican Declaration of Independence. Get acquainted with America’s greate
 st religious document!\n\nPresented by Dr. Zohar Raviv\, an internationall
 y-recognized Jewish thinker and educator who serves as the International V
 ice President of Education for Taglit-Birthright Israel. He plays a pivota
 l role in shaping Birthright-Israel’s educational philosophy\, and leads
  some of the global paradigm shifts concerning contempor...
DTSTART;TZID=America/New_York:20170308T123000
DTEND;TZID=America/New_York:20170308T133000
END:VEVENT
END:VCALENDAR
