BEGIN:VCALENDAR
PRODID:-//eluceo/ical//2.0/EN
VERSION:2.0
CALSCALE:GREGORIAN
BEGIN:VEVENT
UID:4e456d767e39d6b911482f273f013f57
DTSTAMP:20260421T232410Z
SUMMARY:Grand opening of The Holocaust Museum & Center for Tolerance and Ed
 ucation
DESCRIPTION:Jewish Federation & Foundation of Rockland County\nCommunity Ca
 lendar\nhttps://jewishrockland.org/calendar/grand-opening-of-the-holocaust
 -museum--center-for-tolerance-and-education-1618234695\n\nGrand opening ga
 la of the Holocaust Museum & Center for Tolerance and Education
DTSTART;TZID=America/New_York:20211010T160000
DTEND;TZID=America/New_York:20211010T170000
END:VEVENT
END:VCALENDAR
