BEGIN:VCALENDAR
PRODID:-//eluceo/ical//2.0/EN
VERSION:2.0
CALSCALE:GREGORIAN
BEGIN:VEVENT
UID:b3b8b7525abf829a10f985a75e9dee74
DTSTAMP:20260422T182109Z
SUMMARY:Group Menorah Lighting and Shabbat Hanukkah service
DESCRIPTION:Jewish Federation & Foundation of Rockland County\nCommunity Ca
 lendar\nhttps://jewishrockland.org/calendar/group-menorah-lighting-and-sha
 bbat-hanukkah-service-1418080847-127777\n\nBring your own khanukkiah (Hanu
 kkah menorah) and five candles\nand join us for a festive Hanukkah Shabbat
  service\, including lots of\nlight\, song and food!
DTSTART;TZID=America/New_York:20141219T190000
DTEND;TZID=America/New_York:20141219T203000
END:VEVENT
END:VCALENDAR
