BEGIN:VCALENDAR
PRODID:-//eluceo/ical//2.0/EN
VERSION:2.0
CALSCALE:GREGORIAN
BEGIN:VEVENT
UID:9d00244e2a8722a153b77558dfea7415
DTSTAMP:20260421T182203Z
SUMMARY:Guest Speaker: Rabbi Nadia Gold
DESCRIPTION:Jewish Federation & Foundation of Rockland County\nCommunity Ca
 lendar\nhttps://jewishrockland.org/calendar/guest-speaker-rabbi-nadia-gold
 \n\nRabbi Nadia Gold\, Director of Family Engagement at West End Synagogue
  in NYC\, will speak about Reconstructionist Judaism. What is it? It's pas
 t and it's future. Bring your own meat/parve lunch (no dairy) and join in 
 this interesting conversation.
DTSTART;TZID=America/New_York:20180316T120000
DTEND;TZID=America/New_York:20180316T133000
END:VEVENT
END:VCALENDAR
