BEGIN:VCALENDAR
PRODID:-//eluceo/ical//2.0/EN
VERSION:2.0
CALSCALE:GREGORIAN
BEGIN:VEVENT
UID:1ab9b3ec988bec00ae45f0ab7b92ebb4
DTSTAMP:20260421T120453Z
SUMMARY:Habayit Kids at New City Jewish Center
DESCRIPTION:Jewish Federation & Foundation of Rockland County\nCommunity Ca
 lendar\nhttps://jewishrockland.org/calendar/habayit-kids-at-new-city-jewis
 h-center-1747840795\n\nJoin us for an evening of fun for Shavuot - games\,
  activities\, learning and breakfast for dinner (meal included)!\nFor grad
 es 3rd-5th!
DTSTART;TZID=America/New_York:20250601T170000
DTEND;TZID=America/New_York:20250606T183000
END:VEVENT
END:VCALENDAR
