BEGIN:VCALENDAR
PRODID:-//eluceo/ical//2.0/EN
VERSION:2.0
CALSCALE:GREGORIAN
BEGIN:VEVENT
UID:c60814418ad3de5830ad1be19ebff826
DTSTAMP:20260421T115701Z
SUMMARY:Habayit Teens Slime in the Sukkah at New City Jewish Center
DESCRIPTION:Jewish Federation & Foundation of Rockland County\nCommunity Ca
 lendar\nhttps://jewishrockland.org/calendar/habayit-teens-slime-in-the-suk
 kah-at-new-city-jewish-center-1756140208\n\nMake a mess\, have some treats
 \, hang with friends! Join us to celebrate in the sukkah!
DTSTART;TZID=America/New_York:20251012T000000
DTEND;TZID=America/New_York:20251012T130000
END:VEVENT
END:VCALENDAR
