BEGIN:VCALENDAR
PRODID:-//eluceo/ical//2.0/EN
VERSION:2.0
CALSCALE:GREGORIAN
BEGIN:VEVENT
UID:af3671d81bdf53cb9a860bee5b2aa690
DTSTAMP:20260424T162211Z
SUMMARY:Habayit Tots - NCJC Purim for ages 2-7
DESCRIPTION:Jewish Federation & Foundation of Rockland County\nCommunity Ca
 lendar\nhttps://jewishrockland.org/calendar/habayit-tots---ncjc-purim-for-
 ages-2-7-1710169971\n\nCelebrate Purim with friends at NCJC. Join Morah Am
 y for a puppet show\, games and activities!\nCome in your best costume!!
DTSTART;TZID=America/New_York:20240323T043000
DTEND;TZID=America/New_York:20240323T173000
END:VEVENT
END:VCALENDAR
