BEGIN:VCALENDAR
PRODID:-//eluceo/ical//2.0/EN
VERSION:2.0
CALSCALE:GREGORIAN
BEGIN:VEVENT
UID:c2940c772919595c9c6c9f9787491fad
DTSTAMP:20260421T121337Z
SUMMARY:Habayit Tots at New City Jewish Center
DESCRIPTION:Jewish Federation & Foundation of Rockland County\nCommunity Ca
 lendar\nhttps://jewishrockland.org/calendar/habayit-tots-at-new-city-jewis
 h-center-1746806516\n\nFun\, Fire and Friends - Explore Lag Baomer through
  crafts\, activities and food!
DTSTART;TZID=America/New_York:20250517T104500
DTEND;TZID=America/New_York:20250517T114500
END:VEVENT
END:VCALENDAR
