BEGIN:VCALENDAR
PRODID:-//eluceo/ical//2.0/EN
VERSION:2.0
CALSCALE:GREGORIAN
BEGIN:VEVENT
UID:1357d4b36321702192d05caf81f22e01
DTSTAMP:20260422T050055Z
SUMMARY:Habayit Tots Dinner and Shabbat Program
DESCRIPTION:Jewish Federation & Foundation of Rockland County\nCommunity Ca
 lendar\nhttps://jewishrockland.org/calendar/habayit-tots-dinner-and-shabba
 t-program-1762968072\n\nJoin us to bring in Shabbat with special projects\
 , games\, songs and dinner!
DTSTART;TZID=America/New_York:20251205T170000
DTEND;TZID=America/New_York:20251205T180000
END:VEVENT
END:VCALENDAR
