BEGIN:VCALENDAR
PRODID:-//eluceo/ical//2.0/EN
VERSION:2.0
CALSCALE:GREGORIAN
BEGIN:VEVENT
UID:1045bf176692de53956523aa29ea7548
DTSTAMP:20260420T220807Z
SUMMARY:Habayit Tots Mother's Day and Yom Ha'atzmaut Celebration
DESCRIPTION:Jewish Federation & Foundation of Rockland County\nCommunity Ca
 lendar\nhttps://jewishrockland.org/calendar/habayit-tots-mothers-day-and-y
 om-haatzmaut-celebration-1713378691\n\nJoin us to celebrate Mother's Day a
 nd Israel's Independence. Dance\, sing and create with Morah Amy!
DTSTART;TZID=America/New_York:20240510T170000
DTEND;TZID=America/New_York:20240510T180000
END:VEVENT
END:VCALENDAR
