BEGIN:VCALENDAR
PRODID:-//eluceo/ical//2.0/EN
VERSION:2.0
CALSCALE:GREGORIAN
BEGIN:VEVENT
UID:9a332efdd344e1cf6791cf7f1f2a15e4
DTSTAMP:20260421T173832Z
SUMMARY:Habayit Tots Shavuot New City Jewish Center
DESCRIPTION:Jewish Federation & Foundation of Rockland County\nCommunity Ca
 lendar\nhttps://jewishrockland.org/calendar/habayit-tots-shavuot-new-city-
 jewish-center-1746806766\n\nJoin Amy for a morning of learning\, activitie
 s and dairy (food that is)!
DTSTART;TZID=America/New_York:20250601T110000
DTEND;TZID=America/New_York:20250601T120000
END:VEVENT
END:VCALENDAR
