BEGIN:VCALENDAR
PRODID:-//eluceo/ical//2.0/EN
VERSION:2.0
CALSCALE:GREGORIAN
BEGIN:VEVENT
UID:b137a25763555929ad197465fc1a7283
DTSTAMP:20260424T214017Z
SUMMARY:Habayit Tots Simchat Torah at New City Jewish Center
DESCRIPTION:Jewish Federation & Foundation of Rockland County\nCommunity Ca
 lendar\nhttps://jewishrockland.org/calendar/habayit-tots-simchat-torah-at-
 new-city-jewish-center-1756140483\n\nDancing\, singing\, treats and more. 
 Celebrate Simchat Torah in style! For kids ages 2-2nd grade!
DTSTART;TZID=America/New_York:20241015T100000
DTEND;TZID=America/New_York:20241015T110000
END:VEVENT
END:VCALENDAR
