BEGIN:VCALENDAR
PRODID:-//eluceo/ical//2.0/EN
VERSION:2.0
CALSCALE:GREGORIAN
BEGIN:VEVENT
UID:d08fcfa031c69359e1612fb57e978728
DTSTAMP:20260422T053511Z
SUMMARY:Habayit Tots Sukkah Party at New City Jewish Center
DESCRIPTION:Jewish Federation & Foundation of Rockland County\nCommunity Ca
 lendar\nhttps://jewishrockland.org/calendar/habayit-tots-sukkah-party-at-n
 ew-city-jewish-center-1756140132\n\nDecorate the sukkah\, have some treats
 \, shake your lulav and much more in the New City Jewish Center sukkah!
DTSTART;TZID=America/New_York:20251012T093000
DTEND;TZID=America/New_York:20251012T103000
END:VEVENT
END:VCALENDAR
