BEGIN:VCALENDAR
PRODID:-//eluceo/ical//2.0/EN
VERSION:2.0
CALSCALE:GREGORIAN
BEGIN:VEVENT
UID:23bf0d50439fe855bc42355879c61e46
DTSTAMP:20260423T001051Z
SUMMARY:Habayit Tots Yom Kippur
DESCRIPTION:Jewish Federation & Foundation of Rockland County\nCommunity Ca
 lendar\nhttps://jewishrockland.org/calendar/habayit-tots-yom-kippur-172486
 3452\n\nExplore Yom Kippur through crafts\, song\, movement and games!
DTSTART;TZID=America/New_York:20241012T100000
DTEND;TZID=America/New_York:20241012T110000
END:VEVENT
END:VCALENDAR
