BEGIN:VCALENDAR
PRODID:-//eluceo/ical//2.0/EN
VERSION:2.0
CALSCALE:GREGORIAN
BEGIN:VEVENT
UID:1e69fa7d04a3b198e49157885ae33e15
DTSTAMP:20260419T163932Z
SUMMARY:Habyit Tots Yom Kippur Program at New City Jewish Center
DESCRIPTION:Jewish Federation & Foundation of Rockland County\nCommunity Ca
 lendar\nhttps://jewishrockland.org/calendar/habyit-tots-yom-kippur-program
 -at-new-city-jewish-center-1756139940\n\nJoin our tots as we explore Yom K
 ippur in fun and interesting ways!
DTSTART;TZID=America/New_York:20250902T100000
DTEND;TZID=America/New_York:20250902T110000
END:VEVENT
END:VCALENDAR
