BEGIN:VCALENDAR
PRODID:-//eluceo/ical//2.0/EN
VERSION:2.0
CALSCALE:GREGORIAN
BEGIN:VEVENT
UID:48930f1999b39f86789a67c48c2e52b9
DTSTAMP:20260424T081518Z
SUMMARY:Hamentaschen Baking at CSI\, Nyack
DESCRIPTION:Jewish Federation & Foundation of Rockland County\nCommunity Ca
 lendar\nhttps://jewishrockland.org/calendar/hamentaschen-baking-at-csi-nya
 ck-2017\n\nSunday\, February 26 Hamantaschen Baking at CSI 10 a.m.\nBring 
 your children\, grandchildren - All are invited to attend.\nReservations a
  Must! For more information contact us at 845-358-3767 or csioffice@optonl
 ine.net\n\n 
DTSTART;TZID=America/New_York:20170226T100000
DTEND;TZID=America/New_York:20170226T113000
END:VEVENT
END:VCALENDAR
