BEGIN:VCALENDAR
PRODID:-//eluceo/ical//2.0/EN
VERSION:2.0
CALSCALE:GREGORIAN
BEGIN:VEVENT
UID:d117c8819223272e108aa40647d7bc9c
DTSTAMP:20260422T234845Z
SUMMARY:Handbag BINGO at Temple Beth Sholom
DESCRIPTION:Jewish Federation & Foundation of Rockland County\nCommunity Ca
 lendar\nhttps://jewishrockland.org/calendar/handbag-bingo-at-temple-beth-s
 holom-2016-207422\n\nJoin in on the fun! Handbag BINGO at Temple Beth Shol
 om. Doors open at 7:00pm\, BINGO starts at 7:30pm.\n$40.00 in advance (by 
 October 14) $50.00 at the door. Admission includes one BINGO card per game
 \, with additional cards available for purchase at the event.\nWinners wil
 l receive a high end designer handbag valued between $200.00 - $1000.00 re
 tail. No knock offs! Lots of raffles too!\nNo additional purchase necessar
 y to win.\nBring your own beverages and snacks.
DTSTART;TZID=America/New_York:20161020T190000
DTEND;TZID=America/New_York:20161020T213000
END:VEVENT
END:VCALENDAR
