BEGIN:VCALENDAR
PRODID:-//eluceo/ical//2.0/EN
VERSION:2.0
CALSCALE:GREGORIAN
BEGIN:VEVENT
UID:04904250c8f3bf13b3ade9b68f3249ac
DTSTAMP:20260420T172843Z
SUMMARY:Harry Potter and the Magical Purim at NCJC
DESCRIPTION:Jewish Federation & Foundation of Rockland County\nCommunity Ca
 lendar\nhttps://jewishrockland.org/calendar/harry-potter-and-the-magical-p
 urim-at-ncjc-1551292167\n\nPlease join us for a Harry Potter Purim!\n\nCar
 nival\, Silent Auction and Raffle\, Dinner\, Megillah reading and much mor
 e! Please dress up as your favorite Harry Potter character!\n\nCarnival/Si
 lent Auction/Raffle begins at 5:30pm\nMincha at 6:15\nDinner at 6:45\nMa'a
 riv at 7:30\nMegillah at 7:45\nSnacks & Dessert at 9:00\n\nMenu includes a
  TRADITIONAL HOGWARTS DINNER including Shepherd's pie\, Magic multi-Colore
 d Pasta with Meatballs\, Kreacher's Vegetable soup\, bread and Gillyweed s
 alad.\n\nThe...
DTSTART;TZID=America/New_York:20190320T173000
DTEND;TZID=America/New_York:20190320T213000
END:VEVENT
END:VCALENDAR
