BEGIN:VCALENDAR
PRODID:-//eluceo/ical//2.0/EN
VERSION:2.0
CALSCALE:GREGORIAN
BEGIN:VEVENT
UID:bed4bbf4618e2271fb31121b3a64f7b5
DTSTAMP:20260420T185259Z
SUMMARY:Hate Among Us
DESCRIPTION:Jewish Federation & Foundation of Rockland County\nCommunity Ca
 lendar\nhttps://jewishrockland.org/calendar/hate-among-us-1590157557\n\nHA
 TE AMONG US depicts unique perspectives on anti-Semitism from young and ol
 d alike\, from Jew and non-Jew\, from within historic Jewish neighborhoods
  in Europe\, to the streets of Charlottesville and Pittsburgh’s Tree of 
 Life Synagogue massacre. 
DTSTART;TZID=America/New_York:20200628T193000
DTEND;TZID=America/New_York:20200630T193000
END:VEVENT
END:VCALENDAR
