BEGIN:VCALENDAR
PRODID:-//eluceo/ical//2.0/EN
VERSION:2.0
CALSCALE:GREGORIAN
BEGIN:VEVENT
UID:6011eec72d1e7d147e96ff0401a987bd
DTSTAMP:20260424T073317Z
SUMMARY:Havdalah with Friends
DESCRIPTION:Jewish Federation & Foundation of Rockland County\nCommunity Ca
 lendar\nhttps://jewishrockland.org/calendar/havdalah-with-friends-17067198
 53\n\nJoi us for a songs\, dance and art. Let's start the week off right\,
  together!
DTSTART;TZID=America/New_York:20240203T163000
DTEND;TZID=America/New_York:20240203T180000
END:VEVENT
END:VCALENDAR
