BEGIN:VCALENDAR
PRODID:-//eluceo/ical//2.0/EN
VERSION:2.0
CALSCALE:GREGORIAN
BEGIN:VEVENT
UID:41343d0eb1d203838e8608cc32c36066
DTSTAMP:20260420T024955Z
SUMMARY:Hazak Group Meeting - for 55+ at Nanuet Hebrew Center
DESCRIPTION:Jewish Federation & Foundation of Rockland County\nCommunity Ca
 lendar\nhttps://jewishrockland.org/calendar/hazak-group-meeting-nanuet-heb
 rew-center\n\nHazak Group Meeting (for age 55+) at 1pm. Open to the Commun
 ity\; no RSVP necessary.  You may bring your own dairy lunch or snack
DTSTART;TZID=America/New_York:20160404T130000
DTEND;TZID=America/New_York:20160404T150000
END:VEVENT
END:VCALENDAR
