BEGIN:VCALENDAR
PRODID:-//eluceo/ical//2.0/EN
VERSION:2.0
CALSCALE:GREGORIAN
BEGIN:VEVENT
UID:324a59e6c9ef6cb9a7dc6b2dda9def07
DTSTAMP:20260420T181546Z
SUMMARY:Health & Wellness Fair
DESCRIPTION:Jewish Federation & Foundation of Rockland County\nCommunity Ca
 lendar\nhttps://jewishrockland.org/calendar/health--wellness-fair\n\nHealt
 h & Wellness Fair
DTSTART;TZID=America/New_York:20130303T090000
DTEND;TZID=America/New_York:20130303T160000
END:VEVENT
END:VCALENDAR
