BEGIN:VCALENDAR
PRODID:-//eluceo/ical//2.0/EN
VERSION:2.0
CALSCALE:GREGORIAN
BEGIN:VEVENT
UID:1b43a0aa2d739bac069a0b664682e5ff
DTSTAMP:20260425T160725Z
SUMMARY:Hidden Gem Shoppe at West Clarkstown Jewish Center
DESCRIPTION:Jewish Federation & Foundation of Rockland County\nCommunity Ca
 lendar\nhttps://jewishrockland.org/calendar/hidden-gem-shoppe-at-west-clar
 kstown-jewish-center-1567975376\n\nWest Clarkstown Jewish Center\, located
  at 95 W. Clarkstown Rd\,\, in New City\, is announcing the Grand Opening 
 of the Hidden Gem Shoppe. The Shoppe will operate on Wednesdays \, from 10
  a.m. to 2 p.m. starting September 18th. Items will include jewelry\, anti
 ques\, household items and much more. Any questions\, please call the Syna
 goug office at (845)352-0017. COME ONE\, COME ALL\, FOR BARGAINS GALORE!
DTSTART;TZID=America/New_York:20190918T100000
DTEND;TZID=America/New_York:20200212T140000
END:VEVENT
END:VCALENDAR
